BEGIN:VCALENDAR
VERSION:2.0
PRODID:-//lcmsne.org//NONSGML kigkonsult.se iCalcreator 2.30.10//
CALSCALE:GREGORIAN
METHOD:PUBLISH
UID:8c98426f-e155-496f-bd30-2a4ca2b6926c
X-WR-CALDESC:\n\n\n
X-WR-RELCALID:6d313b93ecee86a7a6ab8430fae8ec89
X-WR-TIMEZONE:America/Chicago
BEGIN:VTIMEZONE
TZID:America/Chicago
BEGIN:STANDARD
TZNAME:CST
DTSTART:20251102T020000
TZOFFSETFROM:-0500
TZOFFSETTO:-0600
RDATE:20261101T020000
END:STANDARD
BEGIN:DAYLIGHT
TZNAME:CDT
DTSTART:20260308T020000
TZOFFSETFROM:-0600
TZOFFSETTO:-0500
RDATE:20270314T020000
END:DAYLIGHT
END:VTIMEZONE
BEGIN:VEVENT
UID:de7816f3-a7a1-4493-a60a-e0d0872b2e09
DTSTAMP:20260422T025243Z
DESCRIPTION:\n\n\n
DTSTART;TZID=America/Chicago:20260430T170000
DTEND;TZID=America/Chicago:20260430T190000
LOCATION:Hillcrest Country Club\, 9401 O Street\, Lincoln\, NE 68520 US
SUMMARY:Fundraising Reception
END:VEVENT
END:VCALENDAR
